BEGIN:VCALENDAR
VERSION:2.0
PRODID:-//Department Of Education//c23950ad-a0b0-46b2-a0ff-5f0a88a941db
BEGIN:VTIMEZONE
TZID:Australia/Sydney
TZURL:http://tzurl.org/zoneinfo-outlook/Australia/Sydney
X-LIC-LOCATION:Australia/Sydney
BEGIN:STANDARD
TZOFFSETFROM:+1100
TZOFFSETTO:+1000
TZNAME:AEST
DTSTART:19700405T030000
RRULE:FREQ=YEARLY;BYMONTH=4;BYDAY=1SU
END:STANDARD
BEGIN:DAYLIGHT
TZOFFSETFROM:+1000
TZOFFSETTO:+1100
TZNAME:AEDT
DTSTART:19701004T020000
RRULE:FREQ=YEARLY;BYMONTH=10;BYDAY=1SU
END:DAYLIGHT
END:VTIMEZONE
CALSCALE:GREGORIAN
X-WR-TIMEZONE:Australia/Sydney
BEGIN:VEVENT
DTSTART;TZID=Australia/Sydney:20200228T170017
DTEND;TZID=Australia/Sydney:20200228T183000
DTSTAMP:20200228T000000Z
UID:a40152a1-fef2-4f13-ad71-3af1a51fb10a
LOCATION:K-2 Top Playground
SUMMARY;LANGUAGE=en-us:Welcome BBQ
SEQUENCE:0
DESCRIPTION:We invite all new families to join us for a sausage sizzle to welcome you to the NRPS family. 
END:VEVENT
TRANSP:TRANSPARENT
END:VCALENDAR
