BEGIN:VCALENDAR
VERSION:2.0
PRODID:-//Department Of Education//f1334c5d-1616-49f5-bc72-73a7398defcc
BEGIN:VTIMEZONE
TZID:Australia/Sydney
TZURL:http://tzurl.org/zoneinfo-outlook/Australia/Sydney
X-LIC-LOCATION:Australia/Sydney
BEGIN:STANDARD
TZOFFSETFROM:+1100
TZOFFSETTO:+1000
TZNAME:AEST
DTSTART:19700405T030000
RRULE:FREQ=YEARLY;BYMONTH=4;BYDAY=1SU
END:STANDARD
BEGIN:DAYLIGHT
TZOFFSETFROM:+1000
TZOFFSETTO:+1100
TZNAME:AEDT
DTSTART:19701004T020000
RRULE:FREQ=YEARLY;BYMONTH=10;BYDAY=1SU
END:DAYLIGHT
END:VTIMEZONE
CALSCALE:GREGORIAN
X-WR-TIMEZONE:Australia/Sydney
BEGIN:VEVENT
DTSTART;TZID=Australia/Sydney:20200225T083007
DTEND;TZID=Australia/Sydney:20200225T145020
DTSTAMP:20200225T000000Z
UID:0615b1c0-1fb7-4a9d-9eab-f017031fa172
LOCATION:Waves Swimming Centre, Baulkham Hills
SUMMARY;LANGUAGE=en-us:NRPS Swimming Carnival
SEQUENCE:0
DESCRIPTION:Students (3-6) will be attending the annual swimming carnival.
END:VEVENT
TRANSP:TRANSPARENT
END:VCALENDAR
